View In:
ArcGIS JavaScript
ArcGIS Online Map Viewer
ArcGIS Earth
ArcGIS Pro
Service Description: An estimate of housing units located within different wildfire exposure levels. Exposure levels are grouped into three categories: Primary, Secondary, and Low-to-No Exposure.
Homes in Primary Exposure areas are immediately nearby burnable land cover. Mitigation efforts to reduce fire intensity and ember production in this may be warranted. Buildings in this zone would benefit from hardening to resist ignition.
Homes in Secondary Exposure areas may be impacted by lofted embers or by home-to-home spread even though they are not immediately located with vegetation types classified as burnable. Buildings in this zone would benefit from hardening measures to resist ignition, but defensible space is usually not required due to the heavily developed nature of the zone.
Homes in Low-to-No Exposure zones are generally in highly developed, urban areas beyond the distance where flames and home-to-home spread is likely. Smoke and evacuations could still impact this area.
Map Name: Homes Exposed to Wildfire
Legend
All Layers and Tables
Dynamic Legend
Dynamic All Layers
Layers:
Description:
Copyright Text: Data Sources: Wildfire Risk to Communities: Community Wildfire Risk Reduction Zones for the United States, https://www.fs.usda.gov/rds/archive/catalog/RDS-2024-0030 Housing Unit Count: Wildfire Risk to Communities: Spatial datasets of wildfire risk for populated areas in the United States (2nd Edition) from https://www.fs.usda.gov/rds/archive/catalog/RDS-2020-0060-2
Spatial Reference:
102100
(3857)
Single Fused Map Cache: true
Tile Info:
- Height: 256
- Width: 256
- DPI: 96
-
Levels of Detail: 24
-
Level ID: 1
[ Start Tile, End Tile ]
- Resolution: 78271.5169639999
- Scale: 2.95828763795777E8
-
Level ID: 2
[ Start Tile, End Tile ]
- Resolution: 39135.7584820001
- Scale: 1.47914381897889E8
-
Level ID: 3
[ Start Tile, End Tile ]
- Resolution: 19567.8792409999
- Scale: 7.3957190948944E7
-
Level ID: 4
[ Start Tile, End Tile ]
- Resolution: 9783.93962049996
- Scale: 3.6978595474472E7
-
Level ID: 5
[ Start Tile, End Tile ]
- Resolution: 4891.96981024998
- Scale: 1.8489297737236E7
- Format: Mixed
- Compression Quality: 75.0
- Origin: X: -2.0037508342787E7
Y: 2.0037508342787E7
- Spatial Reference: 102100
(3857)
Storage Info:
- Storage Format: esriMapCacheStorageModeCompactV2
- Packet Size: 128
Initial Extent:
XMin: -1.4229633032863924E7
YMin: 2012175.826124921
XMax: -7115493.481625268
YMax: 7129807.297264628
Spatial Reference: 102100
(3857)
Full Extent:
XMin: -1.4263681315369844E7
YMin: 2658725.855542006
XMax: -7312921.315369844
YMax: 6791885.855542006
Spatial Reference: 102100
(3857)
Units: esriMeters
Supported Image Format Types: PNG32,PNG24,PNG,JPG,DIB,TIFF,EMF,PS,PDF,GIF,SVG,SVGZ,BMP
Document Info:
Title: Map
Author:
Comments:
Subject:
Category:
Keywords: Homes Exposed to Wildfire
AntialiasingMode: Fast
TextAntialiasingMode: Force
Supports Dynamic Layers: true
Resampling: true
MaxRecordCount: 2000
MaxImageHeight: 4096
MaxImageWidth: 4096
Supported Query Formats: JSON, geoJSON, PBF
Supports Query Data Elements: true
Min Scale: 3.6978595474472E7
Max Scale: 0
Min LOD: 4
Max LOD: 14
Supports Datum Transformation: true
Child Resources:
Info
Dynamic Layer
Supported Operations:
Export Map
Identify
QueryLegends
QueryDomains
Find
EstimateExportTilesSize
ExportTiles
Return Updates